BEGIN:VCALENDAR
VERSION:2.0
PRODID:-//Leeds Philharmonic Chorus - ECPv6.15.17//NONSGML v1.0//EN
CALSCALE:GREGORIAN
METHOD:PUBLISH
X-ORIGINAL-URL:https://www.leedsphil.com
X-WR-CALDESC:Events for Leeds Philharmonic Chorus
REFRESH-INTERVAL;VALUE=DURATION:PT1H
X-Robots-Tag:noindex
X-PUBLISHED-TTL:PT1H
BEGIN:VTIMEZONE
TZID:UTC
BEGIN:STANDARD
TZOFFSETFROM:+0000
TZOFFSETTO:+0000
TZNAME:UTC
DTSTART:20220101T000000
END:STANDARD
END:VTIMEZONE
BEGIN:VEVENT
DTSTART;TZID=UTC:20231105T183000
DTEND;TZID=UTC:20231105T213000
DTSTAMP:20260421T161736
CREATED:20230728T151254Z
LAST-MODIFIED:20231120T140252Z
UID:5165-1699209000-1699219800@www.leedsphil.com
SUMMARY:Mendelssohn's Elijah
DESCRIPTION:  \n  \n\nElijah: a wild\, exciting tale of faith triumphing over despair  \nA clash between the Old Testament prophet and the priests of Baal\, an ancient god of thunder. \nMendelssohn’s thrilling choral masterpiece charts the struggle of the Israelites to endure hardship and find God. \nThe music\, with its turbulent orchestral overture\, vividly depicts tempest\, earthquake\, fire and whirlwind.  It also embraces the ‘still\, small voice’ of hope and consolation\, concluding with the haunting fugue ‘And then shall your Light break forth’. \nThis special performance\, sung in English and conducted by Darius Battiwalla\, combines the voices of the Halifax Choral Society and the Leeds Philharmonic Chorus\, together with four professional soloists.  The concert will be accompanied by the Skipton Building Society Camerata. \n\n \nTickets: from £19.75 including fee\nOn the door and Online from the theatre booking system\nClick here to download the Flyer\n \nWith:\nDarius Battiwalla – Conductor\n \nSkipton Camerata\n \nDean Robinson – Baritone \nSofia Livotov – Soprano\nJoseph Doody – Tenor\nKate Symonds-Joy – Mezzo Soprano\n \nAnd the massed voices of Leeds Philharmonic Chorus and Halifax Choral society\n  \n  \n 
URL:https://www.leedsphil.com/events/elijah/
LOCATION:Halifax Victoria Theatre\, Fountain Street\, Halifax\, West Yorkshire\, HX1 1BP\, United Kingdom
CATEGORIES:Concert Performance,Leeds Philharmonic Chorus,Music
ATTACH;FMTTYPE=image/png:https://www.leedsphil.com/wp-content/uploads/2023/07/elijah.png
END:VEVENT
END:VCALENDAR