BEGIN:VCALENDAR
VERSION:2.0
PRODID:-//Leeds Philharmonic Chorus - ECPv6.15.17//NONSGML v1.0//EN
CALSCALE:GREGORIAN
METHOD:PUBLISH
X-ORIGINAL-URL:https://www.leedsphil.com
X-WR-CALDESC:Events for Leeds Philharmonic Chorus
REFRESH-INTERVAL;VALUE=DURATION:PT1H
X-Robots-Tag:noindex
X-PUBLISHED-TTL:PT1H
BEGIN:VTIMEZONE
TZID:UTC
BEGIN:STANDARD
TZOFFSETFROM:+0000
TZOFFSETTO:+0000
TZNAME:UTC
DTSTART:20230101T000000
END:STANDARD
END:VTIMEZONE
BEGIN:VEVENT
DTSTART;TZID=UTC:20241219T183000
DTEND;TZID=UTC:20241219T193000
DTSTAMP:20260421T234508
CREATED:20240705T101027Z
LAST-MODIFIED:20241102T120512Z
UID:5410-1734633000-1734636600@www.leedsphil.com
SUMMARY:The 2024 Lord Mayor's Carol Concerts first show
DESCRIPTION:  \n  \nLeeds Philharmonic Chorus\nRothwell Temperance Band\nIntroduced by Darius Battiwalla \nJoseph Judge Chorus Master \nAlex Woodrow Organ \nCelebrate Christmas with Leeds International Concert Season’s annual family carol concerts\, taking place this year at Leeds Minster. \nAfter the concert there will be a collection for the Lord Mayor’s Charity Appeal. Councillor Abigail Marshall Katung is the 130th person to hold the Office of Lord Mayor of Leeds. \nPlease note: there are two performances of this concert – 6.30pm and 8.30pm. Tickets: £7.00 (unreserved seating) £3.50 Concessions (over 60s\, under 18\, unwaged\, full time student) (prices include booking fees) \nUnreserved seating. \nTickets online from here \nBox Office: 0113 376 0318 \ne-mail: tickets@leeds.gov.uk \nLeeds Ticket HubCarriageworks TheatreThe Electric Press3 Millennium SquareLeeds\, LS2 3AD \nBook here…  \n  \n 
URL:https://www.leedsphil.com/events/the-2024-lord-mayors-carol-concerts/
LOCATION:Leeds Minster\, 2-6 Kirkgate\, Leeds\, LS2 7DJ\, United Kingdom
CATEGORIES:Concert Performance,Leeds International Concert Season,Leeds Philharmonic Chorus,Music
ATTACH;FMTTYPE=image/jpeg:https://www.leedsphil.com/wp-content/uploads/2021/11/LPC-Carols-800x600-1.jpg
END:VEVENT
BEGIN:VEVENT
DTSTART;TZID=UTC:20241219T203000
DTEND;TZID=UTC:20241219T213000
DTSTAMP:20260421T234508
CREATED:20241102T120621Z
LAST-MODIFIED:20241102T120621Z
UID:5508-1734640200-1734643800@www.leedsphil.com
SUMMARY:The 2024 Lord Mayor's Carol Concerts second show
DESCRIPTION:  \n  \nLeeds Philharmonic Chorus\nRothwell Temperance Band\nIntroduced by Darius Battiwalla \nJoseph Judge Chorus Master \nAlex Woodrow Organ \nCelebrate Christmas with Leeds International Concert Season’s annual family carol concerts\, taking place this year at Leeds Minster. \nAfter the concert there will be a collection for the Lord Mayor’s Charity Appeal. Councillor Abigail Marshall Katung is the 130th person to hold the Office of Lord Mayor of Leeds. \nPlease note: there are two performances of this concert – 6.30pm and 8.30pm. Tickets: £7.00 (unreserved seating) £3.50 Concessions (over 60s\, under 18\, unwaged\, full time student) (prices include booking fees) \nUnreserved seating. \nTickets online from here \nBox Office: 0113 376 0318 \ne-mail: tickets@leeds.gov.uk \nLeeds Ticket HubCarriageworks TheatreThe Electric Press3 Millennium SquareLeeds\, LS2 3AD \nBook here…  \n  \n 
URL:https://www.leedsphil.com/events/the-2024-lord-mayors-carol-concerts-second-show/
LOCATION:Leeds Minster\, 2-6 Kirkgate\, Leeds\, LS2 7DJ\, United Kingdom
CATEGORIES:Concert Performance,Leeds International Concert Season,Leeds Philharmonic Chorus,Music
ATTACH;FMTTYPE=image/jpeg:https://www.leedsphil.com/wp-content/uploads/2021/11/LPC-Carols-800x600-1.jpg
END:VEVENT
END:VCALENDAR